BEGIN:VCALENDAR
VERSION:2.0
PRODID:-//ChamberMaster//Event Calendar 2.0//EN
METHOD:PUBLISH
X-PUBLISHED-TTL:P3D
REFRESH-INTERVAL:P3D
CALSCALE:GREGORIAN
BEGIN:VEVENT
DTSTART;VALUE=DATE:20110225
DTEND;VALUE=DATE:20110226
TRANSP:TRANSPARENT
X-MICROSOFT-CDO-ALLDAYEVENT:TRUE
SUMMARY:''Guess Whoo's Coming for Dinner'' - Gorman Nature Center
DESCRIPTION:Fri       25-Feb        7:00 PM        ''Guess Whoo's Coming for Dinner?'' - learn about the habits and \n                                                     habitats of the owls in Ohio.  It'll be a hoot!  Dress for a hike if the \n                                                     weather permits.  (JF)\n\n\n\n\n\n\n\nFor more information\, please call 419-884-3764     \n2295 Lexington Ave. \, Mansfield\, OH 44907.
X-ALT-DESC;FMTTYPE=text/html:Fri       25-Feb        7:00 PM        ''Guess Whoo's Coming for Dinner?'' - learn about the habits and \n                                                     habitats of the owls in Ohio.  It'll be a hoot!  Dress for a hike if the \n                                                     weather permits.  (JF)\n\n\n\n\n\n\n\nFor more information\, please call 419-884-3764     \n2295 Lexington Ave. \, Mansfield\, OH 44907. \n\n
LOCATION:
UID:e.2256.469
SEQUENCE:3
DTSTAMP:20260425T003703Z
URL:https://portal.richlandareachamber.com/events/details/guess-whoo-s-coming-for-dinner-gorman-nature-center-02-25-2011-469
END:VEVENT

END:VCALENDAR
