BEGIN:VCALENDAR
VERSION:2.0
PRODID:-//ChamberMaster//Event Calendar 2.0//EN
METHOD:PUBLISH
X-PUBLISHED-TTL:P3D
REFRESH-INTERVAL:P3D
CALSCALE:GREGORIAN
BEGIN:VEVENT
DTSTART:20110515T200000Z
DTEND:20110515T200000Z
X-MICROSOFT-CDO-ALLDAYEVENT:FALSE
SUMMARY:Group Bicycle Ride around the Westinghouse District
DESCRIPTION:This will be a slow ride - 2 miles along the area known\nas "the Flats". Families are encouraged to participate.
X-ALT-DESC;FMTTYPE=text/html:This will be a slow ride - 2 miles along the area known\nas "the Flats". Families are encouraged to participate.
LOCATION:NECIC\, 199 North Main Street Mansfield\, Ohio 44901
UID:e.2256.584
SEQUENCE:3
DTSTAMP:20260424T212727Z
URL:https://portal.richlandareachamber.com/events/details/group-bicycle-ride-around-the-westinghouse-district-05-15-2011-584
END:VEVENT

END:VCALENDAR
