BEGIN:VCALENDAR
VERSION:2.0
PRODID:-//ChamberMaster//Event Calendar 2.0//EN
METHOD:PUBLISH
X-PUBLISHED-TTL:P3D
REFRESH-INTERVAL:P3D
CALSCALE:GREGORIAN
BEGIN:VEVENT
DTSTART:20100113T230000Z
DTEND:20110101T003000Z
X-MICROSOFT-CDO-ALLDAYEVENT:FALSE
SUMMARY:Grievers of Suicide Support Group
DESCRIPTION:Support group for those who have experienced the death of a loved one through suicide.  Held the 2nd Wednesday of each month.
X-ALT-DESC;FMTTYPE=text/html:Support group for those who have experienced the death of a loved one through suicide.  Held the 2nd Wednesday of each month.
LOCATION:Hospice House\, Ashland 1050 Dauch Drive If using a GPS for directions\, please enter the address 2750 Mifflin Avenue. Dauch Drive does not show up on GPS or any mapping websites.
UID:e.2256.268
SEQUENCE:3
DTSTAMP:20260425T033731Z
URL:https://portal.richlandareachamber.com/events/details/grievers-of-suicide-support-group-01-13-2010-268
END:VEVENT

END:VCALENDAR
