BEGIN:VCALENDAR
VERSION:2.0
PRODID:-//ChamberMaster//Event Calendar 2.0//EN
METHOD:PUBLISH
X-PUBLISHED-TTL:P3D
REFRESH-INTERVAL:P3D
CALSCALE:GREGORIAN
BEGIN:VEVENT
DTSTART:20100127T231500Z
DTEND:20100324T234500Z
X-MICROSOFT-CDO-ALLDAYEVENT:FALSE
SUMMARY:Griefshare
DESCRIPTION:Will meet Wednesday evenings Jan. 27 - March 24.
X-ALT-DESC;FMTTYPE=text/html:Will meet Wednesday evenings Jan. 27 - March 24.
LOCATION:Trinity Lutheran Church\, Ashland
UID:e.2256.272
SEQUENCE:3
DTSTAMP:20260425T164516Z
URL:https://portal.richlandareachamber.com/events/details/griefshare-01-27-2010-272
END:VEVENT

END:VCALENDAR
