BEGIN:VCALENDAR
VERSION:2.0
PRODID:-//ChamberMaster//Event Calendar 2.0//EN
METHOD:PUBLISH
X-PUBLISHED-TTL:P3D
REFRESH-INTERVAL:P3D
CALSCALE:GREGORIAN
BEGIN:VEVENT
DTSTART:20110520T040000Z
DTEND:20110520T040000Z
X-MICROSOFT-CDO-ALLDAYEVENT:FALSE
SUMMARY:Greek Festival
DESCRIPTION:Festival
X-ALT-DESC;FMTTYPE=text/html:Festival
LOCATION:124 N. Main
UID:e.2256.527
SEQUENCE:3
DTSTAMP:20260424T195508Z
URL:https://portal.richlandareachamber.com/events/details/greek-festival-05-20-2011-527
END:VEVENT

END:VCALENDAR
