BEGIN:VCALENDAR
VERSION:2.0
PRODID:-//ChamberMaster//Event Calendar 2.0//EN
METHOD:PUBLISH
X-PUBLISHED-TTL:P3D
REFRESH-INTERVAL:P3D
CALSCALE:GREGORIAN
BEGIN:VEVENT
DTSTART:20100207T000000Z
DTEND:20100207T000000Z
X-MICROSOFT-CDO-ALLDAYEVENT:FALSE
SUMMARY:Gospel Homecoming
DESCRIPTION:Some of the country's most respected and loved gospel musicians come together for this one night only special gospel event!\n\n\n    Get more information HERE
X-ALT-DESC;FMTTYPE=text/html:<p>\n    Some of the country's most respected and loved gospel musicians come together for this one night only special gospel event!\n</p>\n<p>\n    Get more information <a href="http://www.mansfieldtickets.com/events/all">HERE</a><a href="http://www.mansfieldtickets.com/events/all"></a><a href="http://www.mansfieldtickets.com/events/all"></a> \n</p>
LOCATION:
UID:e.2256.159
SEQUENCE:3
DTSTAMP:20260425T180514Z
URL:https://portal.richlandareachamber.com/events/details/gospel-homecoming-02-06-2010-159
END:VEVENT

END:VCALENDAR
