BEGIN:VCALENDAR
VERSION:2.0
PRODID:-//ChamberMaster//Event Calendar 2.0//EN
METHOD:PUBLISH
X-PUBLISHED-TTL:P3D
REFRESH-INTERVAL:P3D
CALSCALE:GREGORIAN
BEGIN:VEVENT
DTSTART:20100522T120000Z
DTEND:20100522T120000Z
X-MICROSOFT-CDO-ALLDAYEVENT:FALSE
SUMMARY:Golf Scramble
DESCRIPTION:A four-person golf scramble will be sponsored by the OSU-M/NCSC Recreation Department on May 22 (Saturday) at Twin Lakes Golf Course at 9:00 a.m. Cost is $40 per person for 18 holes\, golf cart and lunch.\nRegistration begins at 8:00 a.m. in the clubhouse.  Prizes and lunch will be served in the pavilion immediately following the scramble.\nRegister as a four-person team or individually by May 14 by calling 419-755-4040\, Monday through Friday\, 8 a.m. - 5 p.m.
X-ALT-DESC;FMTTYPE=text/html:A four-person golf scramble will be sponsored by the OSU-M/NCSC Recreation Department on May 22 (Saturday) at Twin Lakes Golf Course at 9:00 a.m. Cost is $40 per person for 18 holes\, golf cart and lunch.\nRegistration begins at 8:00 a.m. in the clubhouse.  Prizes and lunch will be served in the pavilion immediately following the scramble.\nRegister as a four-person team or individually by May 14 by calling 419-755-4040\, Monday through Friday\, 8 a.m. - 5 p.m.
LOCATION:Twin Lakes Golf Course on Marion Ave.\, in Mansfield\, Oh
UID:e.2256.310
SEQUENCE:3
DTSTAMP:20260425T134216Z
URL:https://portal.richlandareachamber.com/events/details/golf-scramble-05-22-2010-310
END:VEVENT

END:VCALENDAR
