BEGIN:VCALENDAR
VERSION:2.0
PRODID:-//ChamberMaster//Event Calendar 2.0//EN
METHOD:PUBLISH
X-PUBLISHED-TTL:P3D
REFRESH-INTERVAL:P3D
CALSCALE:GREGORIAN
BEGIN:VEVENT
DTSTART:20091205T000000Z
DTEND:20091205T020000Z
X-MICROSOFT-CDO-ALLDAYEVENT:FALSE
SUMMARY:Gold Event
DESCRIPTION:Get More Your Gold! Get an additional 25% for your gold the night of our GOLD BUYING EVENT! Just bring in your gold items\, we'll test them\, and give you cash on the spot!
X-ALT-DESC;FMTTYPE=text/html:Get More Your Gold! Get an additional 25% for your gold the night of our GOLD BUYING EVENT! Just bring in your gold items\, we'll test them\, and give you cash on the spot!
LOCATION:871 Ashland Rd. Mansfield\, OH 44905 Corner of Indiana Ave and Ashland Rd.
UID:e.2256.103
SEQUENCE:3
DTSTAMP:20260425T203042Z
URL:https://portal.richlandareachamber.com/events/details/gold-event-12-04-2009-103
END:VEVENT

END:VCALENDAR
