BEGIN:VCALENDAR
VERSION:2.0
PRODID:-//ChamberMaster//Event Calendar 2.0//EN
METHOD:PUBLISH
X-PUBLISHED-TTL:P3D
REFRESH-INTERVAL:P3D
CALSCALE:GREGORIAN
BEGIN:VEVENT
DTSTART;VALUE=DATE:20110129
DTEND;VALUE=DATE:20110130
TRANSP:TRANSPARENT
X-MICROSOFT-CDO-ALLDAYEVENT:TRUE
SUMMARY:Gilbert and Sullivan's Thespis and Hercules: Making the World Safe for Mankind
DESCRIPTION:Gilbert and Sullivan's Thespis and Hercules: Making the World Safe for Mankind\nFriday\, January 28th\, 2011\nSaturday\, January 29th\, 2011  7:30PM\n3PMRYOT performs Gilbert and Sullivan's Thespis along with Hercules: Making the World Safe for Mankind.\n\nIn: Renaissance Youth Opera Theatre (RYOT)\n\nRenaissance Theatre - www.mansfieldtickets.com - 419-522-2726
X-ALT-DESC;FMTTYPE=text/html:Gilbert and Sullivan's Thespis and Hercules: Making the World Safe for Mankind\nFriday\, January 28th\, 2011\nSaturday\, January 29th\, 2011  7:30PM\n3PMRYOT performs Gilbert and Sullivan's Thespis along with Hercules: Making the World Safe for Mankind.\n\nIn: Renaissance Youth Opera Theatre (RYOT)\n\nRenaissance Theatre - www.mansfieldtickets.com - 419-522-2726\n
LOCATION:
UID:e.2256.398
SEQUENCE:3
DTSTAMP:20260425T021252Z
URL:https://portal.richlandareachamber.com/events/details/gilbert-and-sullivan-s-thespis-and-hercules-making-the-world-safe-for-mankind-01-29-2011-398
END:VEVENT

END:VCALENDAR
