BEGIN:VCALENDAR
VERSION:2.0
PRODID:-//ChamberMaster//Event Calendar 2.0//EN
METHOD:PUBLISH
X-PUBLISHED-TTL:P3D
REFRESH-INTERVAL:P3D
CALSCALE:GREGORIAN
BEGIN:VEVENT
DTSTART;VALUE=DATE:20110812
DTEND;VALUE=DATE:20110813
TRANSP:TRANSPARENT
X-MICROSOFT-CDO-ALLDAYEVENT:TRUE
SUMMARY:Ghost Walks - Ohio State Reformatory
DESCRIPTION:Ghost Walks\nAGES 12 AND OVER!!!\n\n\nJoin us for an evening ghost walk through the dark halls and corridors of the historic Ohio State Reformatory. You will be taken on a 2 hour\, guided tour to the hot spots where reports have been made about paranormal activity. Hear about what people have experienced and the stories of murder and death that cause many to believe the prison is haunted. Who knows\, you might just have your own experience...\n\nUpcoming Ghost Walks\nFriday May 06\, 2011 \nSunday June 12\, 2011 \nSunday June 26\, 2011 \nFriday July 08\, 2011 \nSunday July 24\, 2011 \nFriday August 12\, 2011 \nSunday August 28\, 2011 \nFriday September 09\, 2011 \n\n\n\n419-522-2644\n\nwww.mrps.org
X-ALT-DESC;FMTTYPE=text/html:Ghost Walks\nAGES 12 AND OVER!!!\n\n\nJoin us for an evening ghost walk through the dark halls and corridors of the historic Ohio State Reformatory. You will be taken on a 2 hour\, guided tour to the hot spots where reports have been made about paranormal activity. Hear about what people have experienced and the stories of murder and death that cause many to believe the prison is haunted. Who knows\, you might just have your own experience...\n\nUpcoming Ghost Walks\nFriday May 06\, 2011 \nSunday June 12\, 2011 \nSunday June 26\, 2011 \nFriday July 08\, 2011 \nSunday July 24\, 2011 \nFriday August 12\, 2011 \nSunday August 28\, 2011 \nFriday September 09\, 2011 \n\n\n\n419-522-2644\n\nwww.mrps.org
LOCATION:
UID:e.2256.499
SEQUENCE:3
DTSTAMP:20260424T152900Z
URL:https://portal.richlandareachamber.com/events/details/ghost-walks-ohio-state-reformatory-08-12-2011-499
END:VEVENT

END:VCALENDAR
