BEGIN:VCALENDAR
VERSION:2.0
PRODID:-//ChamberMaster//Event Calendar 2.0//EN
METHOD:PUBLISH
X-PUBLISHED-TTL:P3D
REFRESH-INTERVAL:P3D
CALSCALE:GREGORIAN
BEGIN:VEVENT
DTSTART;VALUE=DATE:20110820
DTEND;VALUE=DATE:20110821
TRANSP:TRANSPARENT
X-MICROSOFT-CDO-ALLDAYEVENT:TRUE
SUMMARY:Ghost Hunts - Ohio State Reformatory
DESCRIPTION:Ghost Hunts\n\n\n(Ghost Hunts are not to be confused with the Halloween Haunted Prison Experience.) \n\nAdmission price is $65 per person which includes access to the building from 8:00pm until 5:00am and a late dinner of pizza and soda.  Water\, soda\, coffee and hot chocolate available throughout the evening.\n\nOvernight paranormal investigation for ages 21 and over. \n\nThe building contains hazards including\, but not limited to: steep steps\, uneven surfaces and lead-based paint.  It is not recommended for pregnant women.\n\nDirections\n\nUpcoming Ghost Hunts\nSaturday March 05\, 2011  \nSaturday March 26\, 2011 \nSaturday April 02\, 2011 \nFriday April 22\, 2011 \nFriday April 29\, 2011 \nSaturday May 14\, 2011  \nFriday May 20\, 2011 \nSaturday June 11\, 2011   \nSaturday June 25\, 2011  \nFriday July 15\, 2011 \nSaturday July 30\, 2011 \nSaturday August 13\, 2011 \nSaturday August 20\, 2011 \nFriday September 02\, 2011 \nFriday November 11\, 2011 \nSaturday November 19\, 2011 \n\n\n419-522-2644\n\nwww.mrps.org
X-ALT-DESC;FMTTYPE=text/html:Ghost Hunts\n\n\n(Ghost Hunts are not to be confused with the Halloween Haunted Prison Experience.) \n\nAdmission price is $65 per person which includes access to the building from 8:00pm until 5:00am and a late dinner of pizza and soda.  Water\, soda\, coffee and hot chocolate available throughout the evening.\n\nOvernight paranormal investigation for ages 21 and over. \n\nThe building contains hazards including\, but not limited to: steep steps\, uneven surfaces and lead-based paint.  It is not recommended for pregnant women.\n\nDirections\n\nUpcoming Ghost Hunts\nSaturday March 05\, 2011  \nSaturday March 26\, 2011 \nSaturday April 02\, 2011 \nFriday April 22\, 2011 \nFriday April 29\, 2011 \nSaturday May 14\, 2011  \nFriday May 20\, 2011 \nSaturday June 11\, 2011   \nSaturday June 25\, 2011  \nFriday July 15\, 2011 \nSaturday July 30\, 2011 \nSaturday August 13\, 2011 \nSaturday August 20\, 2011 \nFriday September 02\, 2011 \nFriday November 11\, 2011 \nSaturday November 19\, 2011 \n\n\n419-522-2644\n\nwww.mrps.org
LOCATION:
UID:e.2256.487
SEQUENCE:3
DTSTAMP:20260424T153039Z
URL:https://portal.richlandareachamber.com/events/details/ghost-hunts-ohio-state-reformatory-08-20-2011-487
END:VEVENT

END:VCALENDAR
