BEGIN:VCALENDAR
VERSION:2.0
PRODID:-//ChamberMaster//Event Calendar 2.0//EN
METHOD:PUBLISH
X-PUBLISHED-TTL:P3D
REFRESH-INTERVAL:P3D
CALSCALE:GREGORIAN
BEGIN:VEVENT
DTSTART;VALUE=DATE:20100731
DTEND;VALUE=DATE:20100801
TRANSP:TRANSPARENT
X-MICROSOFT-CDO-ALLDAYEVENT:TRUE
SUMMARY:Ghost Hunt at the Ohio State Reformatory
DESCRIPTION:Admission price is $65 per person which includes access to the building from 8:00pm until dawn and a late dinner of pizza and soda. Water\, soda\, coffee and hot chocolate available throughout the evening.  Sold out at 100 people. \n    \n    \n    For more information\, please call 419-522-2644 or visit www.mrps.org\n\n    100 Reformatory Rd. \, Mansfield\, 44905.
X-ALT-DESC;FMTTYPE=text/html:<p>\n    Admission price is $65 per person which includes access to the building from 8:00pm until dawn and a late dinner of pizza and soda. Water\, soda\, coffee and hot chocolate available throughout the evening.&nbsp\; Sold out at 100 people. \n    <p>\n    </p>\n    For more information\, please call 419-522-2644 or visit www.mrps.org<br />\n    <span class="event_location">100 Reformatory Rd. \, Mansfield\, 44905.</span> \n</p>
LOCATION:
UID:e.2256.185
SEQUENCE:3
DTSTAMP:20260425T121609Z
URL:https://portal.richlandareachamber.com/events/details/ghost-hunt-at-the-ohio-state-reformatory-07-31-2010-185
END:VEVENT

END:VCALENDAR
