BEGIN:VCALENDAR
VERSION:2.0
PRODID:-//ChamberMaster//Event Calendar 2.0//EN
METHOD:PUBLISH
X-PUBLISHED-TTL:P3D
REFRESH-INTERVAL:P3D
CALSCALE:GREGORIAN
BEGIN:VEVENT
DTSTART;VALUE=DATE:20110204
DTEND;VALUE=DATE:20110205
TRANSP:TRANSPARENT
X-MICROSOFT-CDO-ALLDAYEVENT:TRUE
SUMMARY:George Watsky
DESCRIPTION:George Watsky\nFriday\, February 4th\, 2011  8:00 PMWatsky is the Youth Speaks Poetry grand slam finals champion and was featured on Russell Simmons Presents Def Poetry on HBO.\n\nIn: The CenturyLink Concert Connection\n\n\n\nRenaissance Theatre - www.mansfieldtickets.com - 419-522-2726
X-ALT-DESC;FMTTYPE=text/html:George Watsky\nFriday\, February 4th\, 2011  8:00 PMWatsky is the Youth Speaks Poetry grand slam finals champion and was featured on Russell Simmons Presents Def Poetry on HBO.\n\nIn: The CenturyLink Concert Connection\n\n\n\nRenaissance Theatre - www.mansfieldtickets.com - 419-522-2726\n
LOCATION:
UID:e.2256.400
SEQUENCE:3
DTSTAMP:20260425T003319Z
URL:https://portal.richlandareachamber.com/events/details/george-watsky-02-04-2011-400
END:VEVENT

END:VCALENDAR
