BEGIN:VCALENDAR
VERSION:2.0
PRODID:-//ChamberMaster//Event Calendar 2.0//EN
METHOD:PUBLISH
X-PUBLISHED-TTL:P3D
REFRESH-INTERVAL:P3D
CALSCALE:GREGORIAN
BEGIN:VEVENT
DTSTART:20241116T150000Z
DTEND:20241117T213000Z
X-MICROSOFT-CDO-ALLDAYEVENT:FALSE
SUMMARY:Garden & Gift Shop Holiday Market
DESCRIPTION:Come shop Kingwood's Garden & Gift Shop Holiday Market! The Garden & Gift Shop is showcasing this season's holiday d cor and gifts. King Ballroom is hosting local artisans\, who will be selling their handcrafted jewelry\, pottery\, teas\, artwork\, and more! Unique and one-of-a-kind purchases\, great for gifts or for yourself!
X-ALT-DESC;FMTTYPE=text/html:Come shop Kingwood&rsquo\;s Garden &amp\; Gift Shop Holiday Market! The Garden &amp\; Gift Shop is showcasing this season&rsquo\;s holiday d&eacute\;cor and gifts. King Ballroom is hosting local artisans\, who will be selling their handcrafted jewelry\, pottery\, teas\, artwork\, and more! Unique and one-of-a-kind purchases\, great for gifts or for yourself!
LOCATION:Kingwood Center Gardens
UID:e.2256.6121
SEQUENCE:3
DTSTAMP:20260422T141636Z
URL:https://portal.richlandareachamber.com/events/details/garden-gift-shop-holiday-market-6121
END:VEVENT

END:VCALENDAR
