BEGIN:VCALENDAR
VERSION:2.0
PRODID:-//ChamberMaster//Event Calendar 2.0//EN
METHOD:PUBLISH
X-PUBLISHED-TTL:P3D
REFRESH-INTERVAL:P3D
CALSCALE:GREGORIAN
BEGIN:VEVENT
DTSTART:20090828T213000Z
DTEND:20090829T013000Z
X-MICROSOFT-CDO-ALLDAYEVENT:FALSE
SUMMARY:Friday After Work Party
DESCRIPTION:The LAST Friday After Work Party for the summer features two bands in the Historic Temple Court Lot on North Main Street in downtown Mansfield. Refreshments will be available. This is a FREE event so come enjoy the music\, food\, and beer garden!  Lawn chairs are encouraged.
X-ALT-DESC;FMTTYPE=text/html:The LAST Friday After Work Party for the summer features two bands in the Historic Temple Court Lot on North Main Street in downtown Mansfield. Refreshments will be available. This is a FREE event so come enjoy the music\, food\, and beer garden!  Lawn chairs are encouraged.
LOCATION:The historic Temple Court Lot on North Main Street in the Carrousel District.
UID:e.2256.80
SEQUENCE:3
DTSTAMP:20260426T035810Z
URL:https://portal.richlandareachamber.com/events/details/friday-after-work-party-08-28-2009-80
END:VEVENT

END:VCALENDAR
