BEGIN:VCALENDAR
VERSION:2.0
PRODID:-//ChamberMaster//Event Calendar 2.0//EN
METHOD:PUBLISH
X-PUBLISHED-TTL:P3D
REFRESH-INTERVAL:P3D
CALSCALE:GREGORIAN
BEGIN:VEVENT
DTSTART;VALUE=DATE:20110226
DTEND;VALUE=DATE:20110227
TRANSP:TRANSPARENT
X-MICROSOFT-CDO-ALLDAYEVENT:TRUE
SUMMARY:Freedom Road
DESCRIPTION:Freedom Road\nSaturday\, February 26th\, 2011  8:00 PM  Working with the National Underground Railroad Museum in Cincinnati\, the Renaissance is developing this world premiere stage adaptation that chronicles Ohio's key contribution to the abolitionist movement of the 19th century.\n\nIn: Richland Bank Family Series\n\n\n\n\n\n\nRenaissance Theatre - www.mansfieldtickets.com - 419-522-2726
X-ALT-DESC;FMTTYPE=text/html:Freedom Road\nSaturday\, February 26th\, 2011  8:00 PM  Working with the National Underground Railroad Museum in Cincinnati\, the Renaissance is developing this world premiere stage adaptation that chronicles Ohio's key contribution to the abolitionist movement of the 19th century.\n\nIn: Richland Bank Family Series\n\n\n\n\n\n\nRenaissance Theatre - www.mansfieldtickets.com - 419-522-2726\n
LOCATION:
UID:e.2256.410
SEQUENCE:3
DTSTAMP:20260425T003334Z
URL:https://portal.richlandareachamber.com/events/details/freedom-road-02-26-2011-410
END:VEVENT

END:VCALENDAR
