BEGIN:VCALENDAR
VERSION:2.0
PRODID:-//ChamberMaster//Event Calendar 2.0//EN
METHOD:PUBLISH
X-PUBLISHED-TTL:P3D
REFRESH-INTERVAL:P3D
CALSCALE:GREGORIAN
BEGIN:VEVENT
DTSTART:20251005T170000Z
DTEND:20251005T200000Z
X-MICROSOFT-CDO-ALLDAYEVENT:FALSE
SUMMARY:Free Family Fall Festival
DESCRIPTION:Joins us for games\, prizes\, trunk or treat & snow cones! Everyone is welcome!
X-ALT-DESC;FMTTYPE=text/html:Joins us for games\, prizes\, trunk or treat &amp\; snow cones! Everyone is welcome!
LOCATION:Mansfield 1st Presbyterian Church 399 S Trimble Rd Mansfield OH 44906
UID:e.2256.6337
SEQUENCE:3
DTSTAMP:20260421T193854Z
URL:https://portal.richlandareachamber.com/events/details/free-family-fall-festival-6337
END:VEVENT

END:VCALENDAR
