BEGIN:VCALENDAR
VERSION:2.0
PRODID:-//ChamberMaster//Event Calendar 2.0//EN
METHOD:PUBLISH
X-PUBLISHED-TTL:P3D
REFRESH-INTERVAL:P3D
CALSCALE:GREGORIAN
BEGIN:VEVENT
DTSTART:20130323T140000Z
DTEND:20130323T150000Z
X-MICROSOFT-CDO-ALLDAYEVENT:FALSE
SUMMARY:Free Community Easter Egg Hunt
DESCRIPTION:Come join us for a free\, community Easter Egg Hunt on Saturday\, March 23rd\, at 10:00 a.m. at Ontario Free! We'll have prizes\, games\, and fun for everyone! You could win a large family gift basket\, and special kids' baskets will also be given away. (Easter egg hunting available for children who are walkers through age 10.)\n\nRain or shine! In the event of inclement weather\, the Easter Egg Hunt will take place indoors.
X-ALT-DESC;FMTTYPE=text/html:Come join us for a free\, community Easter Egg Hunt on Saturday\, March 23rd\, at 10:00 a.m. at Ontario Free! We'll have prizes\, games\, and fun for everyone! You could win a large family gift basket\, and special kids' baskets will also be given away. (Easter egg hunting available for children who are walkers through age 10.)\n\nRain or shine! In the event of inclement weather\, the Easter Egg Hunt will take place indoors.
LOCATION:2200 Bedford Blvd. Ontario\,Ohio 44906
UID:e.2256.733
SEQUENCE:3
DTSTAMP:20260419T234444Z
URL:https://portal.richlandareachamber.com/events/details/free-community-easter-egg-hunt-03-23-2013-733
END:VEVENT

END:VCALENDAR
