BEGIN:VCALENDAR
VERSION:2.0
PRODID:-//ChamberMaster//Event Calendar 2.0//EN
METHOD:PUBLISH
X-PUBLISHED-TTL:P3D
REFRESH-INTERVAL:P3D
CALSCALE:GREGORIAN
BEGIN:VEVENT
DTSTART:20100521T130000Z
DTEND:20100521T200000Z
X-MICROSOFT-CDO-ALLDAYEVENT:FALSE
SUMMARY:Free Coin Appraisals
DESCRIPTION:A Professional Coin Expert...\nWill be available to you at Richland Bank as a no charge courtesy of HCC\, Inc. to evaluate your coins and currency on Friday\, May 21st from 9 am to 4 pm.
X-ALT-DESC;FMTTYPE=text/html:A Professional Coin Expert...\nWill be available to you at Richland Bank as a no charge courtesy of HCC\, Inc. to evaluate your coins and currency on Friday\, May 21st from 9 am to 4 pm.
LOCATION:Richland Bank\, 3 N. Main St.\, Mansfield\, OH
UID:e.2256.293
SEQUENCE:3
DTSTAMP:20260425T134253Z
URL:https://portal.richlandareachamber.com/events/details/free-coin-appraisals-05-21-2010-293
END:VEVENT

END:VCALENDAR
