BEGIN:VCALENDAR
VERSION:2.0
PRODID:-//ChamberMaster//Event Calendar 2.0//EN
METHOD:PUBLISH
X-PUBLISHED-TTL:P3D
REFRESH-INTERVAL:P3D
CALSCALE:GREGORIAN
BEGIN:VEVENT
DTSTART:20100617T130000Z
DTEND:20100708T193000Z
X-MICROSOFT-CDO-ALLDAYEVENT:FALSE
SUMMARY:Free Boating Class
DESCRIPTION:FREE BOATING PROGRAM FOR 6-9 GRADERS\n \nButler OH -  A free boating education program is available to area students through Mohican School in the Out-of-Doors.  Students in grades 6 - 9 can learn to boat safely on Pleasant Hill Lake this summer.  Students will take the Ohio Boating Education Course which is required by law for anyone born after 1982 to operate a power boat over 10 horsepower.  They will also have hands on training in power boats\, sailboats\, canoes\, kayaks\, personal watercraft and pontoon boats.  The classes are June 17\, 24 July 1 and 8 from 9:00 AM to 3:30 PM at Pleasant Hill Lake Park near Perrysville.  To register call Mohican School at (419) 938-6671 or go to www. spiritofamerica95.org and click on the Mohican School stite to print out a form.  You can also register in person at the North Central Ohio Safe Boating Festival on June 12 at Pleasant Hill Lake Park.  Funds for this progran are provided by the National Water Safety Congress and the Spirit of America Foundation.
X-ALT-DESC;FMTTYPE=text/html:FREE BOATING PROGRAM FOR 6-9 GRADERS\n \nButler OH -  A free boating education program is available to area students through Mohican School in the Out-of-Doors.  Students in grades 6 - 9 can learn to boat safely on Pleasant Hill Lake this summer.  Students will take the Ohio Boating Education Course which is required by law for anyone born after 1982 to operate a power boat over 10 horsepower.  They will also have hands on training in power boats\, sailboats\, canoes\, kayaks\, personal watercraft and pontoon boats.  The classes are June 17\, 24 July 1 and 8 from 9:00 AM to 3:30 PM at Pleasant Hill Lake Park near Perrysville.  To register call Mohican School at (419) 938-6671 or go to www. spiritofamerica95.org and click on the Mohican School stite to print out a form.  You can also register in person at the North Central Ohio Safe Boating Festival on June 12 at Pleasant Hill Lake Park.  Funds for this progran are provided by the National Water Safety Congress and the Spirit of America Foundation.
LOCATION:Mohcian School In the Out of Doors Inc. 5370 Bunker Hill Road. Butler\, Ohio 44822 Mohican School is between Rt. 97&95 on the West side of Bunker Hill Road N.
UID:e.2256.320
SEQUENCE:3
DTSTAMP:20260425T121450Z
URL:https://portal.richlandareachamber.com/events/details/free-boating-class-06-17-2010-320
END:VEVENT

END:VCALENDAR
