BEGIN:VCALENDAR
VERSION:2.0
PRODID:-//ChamberMaster//Event Calendar 2.0//EN
METHOD:PUBLISH
X-PUBLISHED-TTL:P3D
REFRESH-INTERVAL:P3D
CALSCALE:GREGORIAN
BEGIN:VEVENT
DTSTART:20100121T230000Z
DTEND:20100121T230000Z
X-MICROSOFT-CDO-ALLDAYEVENT:FALSE
SUMMARY:Fox's Table- Starters and Appetizers
DESCRIPTION:The beginning of a beautiful six course dinner!\n\n\n    Get more information HERE
X-ALT-DESC;FMTTYPE=text/html:<p>\n    The beginning of a beautiful six course dinner!\n</p>\n<p>\n    Get more information <a href="http://www.mansfieldtickets.com/events/all">HERE</a><a href="http://www.mansfieldtickets.com/events/all"></a><a href="http://www.mansfieldtickets.com/events/all"></a> \n</p>
LOCATION:
UID:e.2256.157
SEQUENCE:3
DTSTAMP:20260425T203041Z
URL:https://portal.richlandareachamber.com/events/details/fox-s-table-starters-and-appetizers-01-21-2010-157
END:VEVENT

END:VCALENDAR
