BEGIN:VCALENDAR
VERSION:2.0
PRODID:-//ChamberMaster//Event Calendar 2.0//EN
METHOD:PUBLISH
X-PUBLISHED-TTL:P3D
REFRESH-INTERVAL:P3D
CALSCALE:GREGORIAN
BEGIN:VEVENT
DTSTART:20100415T220000Z
DTEND:20100415T220000Z
X-MICROSOFT-CDO-ALLDAYEVENT:FALSE
SUMMARY:Fox's Table- Desserts
DESCRIPTION:A dark and deliciously decadent finale to your dining experience.\n\n\n    Get more information HERE
X-ALT-DESC;FMTTYPE=text/html:<p>\n    A dark and deliciously decadent finale to your dining experience.\n</p>\n<p>\n    Get more information <a href="http://www.mansfieldtickets.com/events/all">HERE</a><a href="http://www.mansfieldtickets.com/events/all"></a><a href="http://www.mansfieldtickets.com/events/all"></a> \n</p>
LOCATION:
UID:e.2256.144
SEQUENCE:3
DTSTAMP:20260425T151349Z
URL:https://portal.richlandareachamber.com/events/details/fox-s-table-desserts-04-15-2010-144
END:VEVENT

END:VCALENDAR
