BEGIN:VCALENDAR
VERSION:2.0
PRODID:-//ChamberMaster//Event Calendar 2.0//EN
METHOD:PUBLISH
X-PUBLISHED-TTL:P3D
REFRESH-INTERVAL:P3D
CALSCALE:GREGORIAN
BEGIN:VEVENT
DTSTART;VALUE=DATE:20110319
DTEND;VALUE=DATE:20110320
TRANSP:TRANSPARENT
X-MICROSOFT-CDO-ALLDAYEVENT:TRUE
SUMMARY:For Clara...
DESCRIPTION:For Clara...\nSaturday\, March 19th\, 2011  8:00 PM   The amazing story behind Brahm's Piano Quintet in F minor is the thing of screenplays. Tonight you'll experience the astonishing work featuring 5 of North Central Ohio's finest musicians.  \n\nIn: Performance Schedule\n\n\n\n\n\n\n\n\nRenaissance Theatre - www.mansfieldtickets.com - 419-522-2726
X-ALT-DESC;FMTTYPE=text/html:For Clara...\nSaturday\, March 19th\, 2011  8:00 PM   The amazing story behind Brahm's Piano Quintet in F minor is the thing of screenplays. Tonight you'll experience the astonishing work featuring 5 of North Central Ohio's finest musicians.  \n\nIn: Performance Schedule\n\n\n\n\n\n\n\n\nRenaissance Theatre - www.mansfieldtickets.com - 419-522-2726\n
LOCATION:
UID:e.2256.414
SEQUENCE:3
DTSTAMP:20260424T225118Z
URL:https://portal.richlandareachamber.com/events/details/for-clara-03-19-2011-414
END:VEVENT

END:VCALENDAR
