BEGIN:VCALENDAR
VERSION:2.0
PRODID:-//ChamberMaster//Event Calendar 2.0//EN
METHOD:PUBLISH
X-PUBLISHED-TTL:P3D
REFRESH-INTERVAL:P3D
CALSCALE:GREGORIAN
BEGIN:VEVENT
DTSTART:20121207T220000Z
DTEND:20121207T230000Z
X-MICROSOFT-CDO-ALLDAYEVENT:FALSE
SUMMARY:First Fridays
DESCRIPTION:Come shop\, dine\, and explore in downtown Mansfield on the first Friday of every month. Entertainment\, drink\, and dinner specials throughout the evening!
X-ALT-DESC;FMTTYPE=text/html:Come shop\, dine\, and explore in downtown Mansfield on the first Friday of every month. Entertainment\, drink\, and dinner specials throughout the evening!  
LOCATION:Downtown Mansfield Mansfield\, Ohio 44902
UID:e.2256.703
SEQUENCE:3
DTSTAMP:20260420T045049Z
URL:https://portal.richlandareachamber.com/events/details/first-fridays-12-07-2012-703
END:VEVENT

END:VCALENDAR
