BEGIN:VCALENDAR
VERSION:2.0
PRODID:-//ChamberMaster//Event Calendar 2.0//EN
METHOD:PUBLISH
X-PUBLISHED-TTL:P3D
REFRESH-INTERVAL:P3D
CALSCALE:GREGORIAN
BEGIN:VEVENT
DTSTART:20130405T210000Z
DTEND:20130406T010000Z
X-MICROSOFT-CDO-ALLDAYEVENT:FALSE
SUMMARY:First Friday Shop Hop
DESCRIPTION:Come shop\, dine\, and explore in downtown Mansfield on the first Friday of every month. Entertainment\, drink\, and dinner specials throughout the evening!
X-ALT-DESC;FMTTYPE=text/html:Come shop\, dine\, and explore in downtown Mansfield on the first Friday of every month. Entertainment\, drink\, and dinner specials throughout the evening!
LOCATION:Downtown Mansfield
UID:e.2256.753
SEQUENCE:3
DTSTAMP:20260419T203553Z
URL:https://portal.richlandareachamber.com/events/details/first-friday-shop-hop-04-05-2013-753
END:VEVENT

END:VCALENDAR
