BEGIN:VCALENDAR
VERSION:2.0
PRODID:-//ChamberMaster//Event Calendar 2.0//EN
METHOD:PUBLISH
X-PUBLISHED-TTL:P3D
REFRESH-INTERVAL:P3D
CALSCALE:GREGORIAN
BEGIN:VEVENT
DTSTART:20120707T020000Z
DTEND:20120707T060000Z
X-MICROSOFT-CDO-ALLDAYEVENT:FALSE
SUMMARY:First Friday's of Mansfield
DESCRIPTION:First Friday's of Mansfield is a social event that is designed to bring together young business owners and professionals seeking to network and mingle with like-minded people\, while providing a foundation to build supportive relationships and alliances within our community.\nFirst Fridays is the number one nationally recognized networking and socializing event.It is held on the first Friday of every month in over 40 cities throughout the United States and Canada.
X-ALT-DESC;FMTTYPE=text/html:First Friday's of Mansfield is a social event that is designed to bring together young business owners and professionals seeking to network and mingle with like-minded people\, while providing a foundation to build supportive relationships and alliances within our community.\nFirst Fridays is the number one nationally recognized networking and socializing event.It is held on the first Friday of every month in over 40 cities throughout the United States and Canada.
LOCATION:Mansfield Art Center
UID:e.2256.670
SEQUENCE:3
DTSTAMP:20260422T101912Z
URL:https://portal.richlandareachamber.com/events/details/first-friday-s-of-mansfield-07-06-2012-670
END:VEVENT

END:VCALENDAR
