BEGIN:VCALENDAR
VERSION:2.0
PRODID:-//ChamberMaster//Event Calendar 2.0//EN
METHOD:PUBLISH
X-PUBLISHED-TTL:P3D
REFRESH-INTERVAL:P3D
CALSCALE:GREGORIAN
BEGIN:VEVENT
DTSTART;VALUE=DATE:20090828
DTEND;VALUE=DATE:20090829
TRANSP:TRANSPARENT
X-MICROSOFT-CDO-ALLDAYEVENT:TRUE
SUMMARY:Final Friday Int'l Films - Mansfield Art Center
DESCRIPTION:
X-ALT-DESC;FMTTYPE=text/html:
LOCATION:
UID:e.2256.57
SEQUENCE:3
DTSTAMP:20260426T022223Z
URL:https://portal.richlandareachamber.com/events/details/final-friday-int-l-films-mansfield-art-center-08-28-2009-57
END:VEVENT

END:VCALENDAR
