BEGIN:VCALENDAR
VERSION:2.0
PRODID:-//ChamberMaster//Event Calendar 2.0//EN
METHOD:PUBLISH
X-PUBLISHED-TTL:P3D
REFRESH-INTERVAL:P3D
CALSCALE:GREGORIAN
BEGIN:VEVENT
DTSTART:20110729T210000Z
DTEND:20110729T130000Z
X-MICROSOFT-CDO-ALLDAYEVENT:FALSE
SUMMARY:Final Friday Concert Series
DESCRIPTION:Outdoor free concert. Lawn chairs recommended.
X-ALT-DESC;FMTTYPE=text/html:Outdoor free concert. Lawn chairs recommended.
LOCATION:Brick Yard
UID:e.2256.559
SEQUENCE:3
DTSTAMP:20260424T164737Z
URL:https://portal.richlandareachamber.com/events/details/final-friday-concert-series-07-29-2011-559
END:VEVENT

END:VCALENDAR
