BEGIN:VCALENDAR
VERSION:2.0
PRODID:-//ChamberMaster//Event Calendar 2.0//EN
METHOD:PUBLISH
X-PUBLISHED-TTL:P3D
REFRESH-INTERVAL:P3D
CALSCALE:GREGORIAN
BEGIN:VEVENT
DTSTART:20130531T220000Z
DTEND:20130601T020000Z
X-MICROSOFT-CDO-ALLDAYEVENT:FALSE
SUMMARY:Final Friday Concert Series
DESCRIPTION:Mojoflo with opening act EYE \nThis show is free and open to the public. Music begins at 6:00pm. Refreshments available for purchase and lawn chairs are encouraged.
X-ALT-DESC;FMTTYPE=text/html:Mojoflo with opening act EYE \nThis show is free and open to the public. Music begins at 6:00pm. Refreshments available for purchase and lawn chairs are encouraged.
LOCATION:The Brickyard
UID:e.2256.754
SEQUENCE:3
DTSTAMP:20260419T184937Z
URL:https://portal.richlandareachamber.com/events/details/final-friday-concert-series-05-31-2013-754
END:VEVENT

END:VCALENDAR
