BEGIN:VCALENDAR
VERSION:2.0
PRODID:-//ChamberMaster//Event Calendar 2.0//EN
METHOD:PUBLISH
X-PUBLISHED-TTL:P3D
REFRESH-INTERVAL:P3D
CALSCALE:GREGORIAN
BEGIN:VEVENT
DTSTART:20130507T020000Z
DTEND:20130507T020000Z
X-MICROSOFT-CDO-ALLDAYEVENT:FALSE
SUMMARY:Fazoli's Fundraiser
DESCRIPTION:Fazoli's is donating 15% of your bill for the entire week (Mon-Sun\, May 6-12) to the Humane Society of Richland County. Take your family\, friends or a group and help abused\, abandoned and neglected animals in Richland County. \nPlease print the following voucher and share with your friends.\nhttps://docs.google.com/file/d/0B2_eqNmziFqWVWlXSS13TjliYUU/edit?usp=sharing
X-ALT-DESC;FMTTYPE=text/html:Fazoli's is donating 15% of your bill for the entire week (Mon-Sun\, May 6-12) to the Humane Society of Richland County. Take your family\, friends or a group and help abused\, abandoned and neglected animals in Richland County. \nPlease print the following voucher and share with your friends.\nhttps://docs.google.com/file/d/0B2_eqNmziFqWVWlXSS13TjliYUU/edit?usp=sharing
LOCATION:Fazoli's in Ontario
UID:e.2256.777
SEQUENCE:3
DTSTAMP:20260419T203413Z
URL:https://portal.richlandareachamber.com/events/details/fazoli-s-fundraiser-05-06-2013-777
END:VEVENT

END:VCALENDAR
