BEGIN:VCALENDAR
VERSION:2.0
PRODID:-//ChamberMaster//Event Calendar 2.0//EN
METHOD:PUBLISH
X-PUBLISHED-TTL:P3D
REFRESH-INTERVAL:P3D
CALSCALE:GREGORIAN
BEGIN:VEVENT
DTSTART:20090807T130000Z
DTEND:20090807T180000Z
X-MICROSOFT-CDO-ALLDAYEVENT:FALSE
SUMMARY:Farmer's Market - Historic Carrousel District
DESCRIPTION:The market will be open every Friday from June 5 through October 2 from 9:00 am until 2:00 pm.  The Market features fresh locally grown produce\, cottage foods and artisan crafts.
X-ALT-DESC;FMTTYPE=text/html:The market will be open every Friday from June 5 through October 2 from 9:00 am until 2:00 pm.  The Market features fresh locally grown produce\, cottage foods and artisan crafts.
LOCATION:The market is located on Fourth Street between Main and Walnut in front of the Richland Carrousel Park.
UID:e.2256.37
SEQUENCE:3
DTSTAMP:20260426T022223Z
URL:https://portal.richlandareachamber.com/events/details/farmer-s-market-historic-carrousel-district-08-07-2009-37
END:VEVENT

END:VCALENDAR
