BEGIN:VCALENDAR
VERSION:2.0
PRODID:-//ChamberMaster//Event Calendar 2.0//EN
METHOD:PUBLISH
X-PUBLISHED-TTL:P3D
REFRESH-INTERVAL:P3D
CALSCALE:GREGORIAN
BEGIN:VEVENT
DTSTART:20090815T180000Z
DTEND:20090815T200000Z
X-MICROSOFT-CDO-ALLDAYEVENT:FALSE
SUMMARY:Family Fun Day at Raemelton Therapeutic Equestrian Center
DESCRIPTION:Raemelton Therapeutic Equestrian Center is having a Family Fun Day on 8/15/09 from 2:00 - 4:00pm. The general public is welcome. Admission is free. There will be games\, face painting\, local crafts\, a bake sale and pony rides ($2.00/ride)
X-ALT-DESC;FMTTYPE=text/html:Raemelton Therapeutic Equestrian Center is having a Family Fun Day on 8/15/09 from 2:00 - 4:00pm. The general public is welcome. Admission is free. There will be games\, face painting\, local crafts\, a bake sale and pony rides ($2.00/ride)
LOCATION:Raemelton Therapeutic Equestrian Center 569 S. Trimble Road - Mansfield Between Marion Avenue and Millsboro Road
UID:e.2256.51
SEQUENCE:3
DTSTAMP:20260426T022428Z
URL:https://portal.richlandareachamber.com/events/details/family-fun-day-at-raemelton-therapeutic-equestrian-center-08-15-2009-51
END:VEVENT

END:VCALENDAR
