BEGIN:VCALENDAR
VERSION:2.0
PRODID:-//ChamberMaster//Event Calendar 2.0//EN
METHOD:PUBLISH
X-PUBLISHED-TTL:P3D
REFRESH-INTERVAL:P3D
CALSCALE:GREGORIAN
BEGIN:VEVENT
DTSTART:20091001T143000Z
DTEND:20091001T143000Z
X-MICROSOFT-CDO-ALLDAYEVENT:FALSE
SUMMARY:Fall Bulbs for Spring Blooms - Alta Greenhouse
DESCRIPTION:Alta Florist & Greenhouse hosts Pieter van der Lans of Holland and Columbus\, OH. Owner of 2Plant International. \nWe've all seen those wonderful Spring gardens full of tulips\, hyacinth\, and daffodils. Those bright\, cheerful\, dancing ladies of Spring. I want it and you want it! Pieter will be here to tell us how to have the most success with Fall bulb planting for fantastic Spring flowering.
X-ALT-DESC;FMTTYPE=text/html:Alta Florist & Greenhouse hosts Pieter van der Lans of Holland and Columbus\, OH. Owner of 2Plant International. \nWe've all seen those wonderful Spring gardens full of tulips\, hyacinth\, and daffodils. Those bright\, cheerful\, dancing ladies of Spring. I want it and you want it! Pieter will be here to tell us how to have the most success with Fall bulb planting for fantastic Spring flowering.
LOCATION:Alta Florist & Greenhouse 935 Home Road South Mansfield\, OH 44906 just off the corner of Marion Avenue and Home Road
UID:e.2256.64
SEQUENCE:3
DTSTAMP:20260425T232541Z
URL:https://portal.richlandareachamber.com/events/details/fall-bulbs-for-spring-blooms-alta-greenhouse-10-01-2009-64
END:VEVENT

END:VCALENDAR
