BEGIN:VCALENDAR
VERSION:2.0
PRODID:-//ChamberMaster//Event Calendar 2.0//EN
METHOD:PUBLISH
X-PUBLISHED-TTL:P3D
REFRESH-INTERVAL:P3D
CALSCALE:GREGORIAN
BEGIN:VEVENT
DTSTART:20110712T120000Z
DTEND:20110713T013000Z
X-MICROSOFT-CDO-ALLDAYEVENT:FALSE
SUMMARY:Essentials of Small Business Computing - Social Media
DESCRIPTION:Session 4 Topics: What is social media\, What is your plan\, Increase sales through social media\, Which social media is best\, Social media strategies and Supporting social media\n\nDuring this session presenters will cover\;\n1.	An overview of Social Media.\n2.	Discuss how Social media needs to part of your marketing plan\n3.	Look at which demographics of Social media users.\n4.	Comparisons of which social may be best for your business.\n5.	Understanding how to support social media.\n6.	How Social media affects Search Engine Optimization (SEO).\n7.	Pitfalls of Social Media
X-ALT-DESC;FMTTYPE=text/html:Session 4 Topics: What is social media\, What is your plan\, Increase sales through social media\, Which social media is best\, Social media strategies and Supporting social media\n\nDuring this session presenters will cover\;\n1.	An overview of Social Media.\n2.	Discuss how Social media needs to part of your marketing plan\n3.	Look at which demographics of Social media users.\n4.	Comparisons of which social may be best for your business.\n5.	Understanding how to support social media.\n6.	How Social media affects Search Engine Optimization (SEO).\n7.	Pitfalls of Social Media\n
LOCATION:Longview Center
UID:e.2256.597
SEQUENCE:3
DTSTAMP:20260424T181945Z
URL:https://portal.richlandareachamber.com/events/details/essentials-of-small-business-computing-social-media-07-12-2011-597
END:VEVENT

END:VCALENDAR
