BEGIN:VCALENDAR
VERSION:2.0
PRODID:-//ChamberMaster//Event Calendar 2.0//EN
METHOD:PUBLISH
X-PUBLISHED-TTL:P3D
REFRESH-INTERVAL:P3D
CALSCALE:GREGORIAN
BEGIN:VEVENT
DTSTART:20111208T210000Z
DTEND:20111208T230000Z
X-MICROSOFT-CDO-ALLDAYEVENT:FALSE
SUMMARY:Elmcroft of Ontario Holiday Open House
DESCRIPTION:Come in out of the cold and enjoy wine and hors d'oeuvres in the company of friends!  Local group\, "New Vision" will be performing at 4:30pm.
X-ALT-DESC;FMTTYPE=text/html:Come in out of the cold and enjoy wine and hors d'oeuvres in the company of friends!  Local group\, "New Vision" will be performing at 4:30pm.  
LOCATION:2010 Walker Lake Rd. Mansfield\, OH 44906 Next door to Panera Bread
UID:e.2256.630
SEQUENCE:3
DTSTAMP:20260424T085005Z
URL:https://portal.richlandareachamber.com/events/details/elmcroft-of-ontario-holiday-open-house-12-08-2011-630
END:VEVENT

END:VCALENDAR
