BEGIN:VCALENDAR
VERSION:2.0
PRODID:-//ChamberMaster//Event Calendar 2.0//EN
METHOD:PUBLISH
X-PUBLISHED-TTL:P3D
REFRESH-INTERVAL:P3D
CALSCALE:GREGORIAN
BEGIN:VEVENT
DTSTART:20100422T160000Z
DTEND:20100422T160000Z
X-MICROSOFT-CDO-ALLDAYEVENT:FALSE
SUMMARY:Earth Day Lecture
DESCRIPTION:The OSU-M/NCSC Arts & Lectures Series will present an Earth Day Lecture by Todd Fackler titled ''Business Development from Environmental Regulation'' on April 22 (Thurs.) at noon in Eisenhower Hall\, room 217.\n	Fackler is a graduate of the College of Wooster.  As a business man\, he will discuss the need for an inter-disciplinary approach to business creation in a new economy.\n	The presentation is free and open to the public.
X-ALT-DESC;FMTTYPE=text/html: The OSU-M/NCSC Arts & Lectures Series will present an Earth Day Lecture by Todd Fackler titled ''Business Development from Environmental Regulation'' on April 22 (Thurs.) at noon in Eisenhower Hall\, room 217.\n	Fackler is a graduate of the College of Wooster.  As a business man\, he will discuss the need for an inter-disciplinary approach to business creation in a new economy.\n	The presentation is free and open to the public.\n\n\n
LOCATION:At the Ohio State University at Mansfield\, Eisenhower Hall in the room 217.
UID:e.2256.301
SEQUENCE:3
DTSTAMP:20260425T151745Z
URL:https://portal.richlandareachamber.com/events/details/earth-day-lecture-04-22-2010-301
END:VEVENT

END:VCALENDAR
