BEGIN:VCALENDAR
VERSION:2.0
PRODID:-//ChamberMaster//Event Calendar 2.0//EN
METHOD:PUBLISH
X-PUBLISHED-TTL:P3D
REFRESH-INTERVAL:P3D
CALSCALE:GREGORIAN
BEGIN:VEVENT
DTSTART:20100520T230000Z
DTEND:20100520T230000Z
X-MICROSOFT-CDO-ALLDAYEVENT:FALSE
SUMMARY:Dvia Nation- The Four Bitchin' Babes
DESCRIPTION:The indestructible divas that are The Four Bitchin' Babes are back and hotter than ever (literally!) in their immensely popular Hormonal Imbalance: A Mood Swinging Musical Revue!\n\n\n    Get more information HERE
X-ALT-DESC;FMTTYPE=text/html:<p>\n    The indestructible divas that are The Four Bitchin&rsquo\; Babes are back and hotter than ever (literally!) in their immensely popular Hormonal Imbalance: A Mood Swinging Musical Revue!\n</p>\n<p>\n    Get more information <a href="http://www.mansfieldtickets.com/events/all">HERE</a><a href="http://www.mansfieldtickets.com/events/all"></a><a href="http://www.mansfieldtickets.com/events/all"></a> \n</p>
LOCATION:
UID:e.2256.152
SEQUENCE:3
DTSTAMP:20260425T134306Z
URL:https://portal.richlandareachamber.com/events/details/dvia-nation-the-four-bitchin-babes-05-20-2010-152
END:VEVENT

END:VCALENDAR
