BEGIN:VCALENDAR
VERSION:2.0
PRODID:-//ChamberMaster//Event Calendar 2.0//EN
METHOD:PUBLISH
X-PUBLISHED-TTL:P3D
REFRESH-INTERVAL:P3D
CALSCALE:GREGORIAN
BEGIN:VEVENT
DTSTART:20130531T140000Z
DTEND:20130531T170000Z
X-MICROSOFT-CDO-ALLDAYEVENT:FALSE
SUMMARY:Downtown Mansfield Farmer's Market
DESCRIPTION:The Downtown Mansfield Farmer's Market is proud to support our local agricultural community and to bring fresh foods closer to downtown.  Markets feature fresh produce\, locally processed meats\, artisan items and homemade goods\, including salsa\, breads\, pastries\, honey and more!
X-ALT-DESC;FMTTYPE=text/html:The Downtown Mansfield Farmer's Market is proud to support our local agricultural community and to bring fresh foods closer to downtown.  Markets feature fresh produce\, locally processed meats\, artisan items and homemade goods\, including salsa\, breads\, pastries\, honey and more!  
LOCATION:Richland Carrousel Park Lawn
UID:e.2256.747
SEQUENCE:3
DTSTAMP:20260419T185238Z
URL:https://portal.richlandareachamber.com/events/details/downtown-mansfield-farmer-s-market-05-31-2013-747
END:VEVENT

END:VCALENDAR
