BEGIN:VCALENDAR
VERSION:2.0
PRODID:-//ChamberMaster//Event Calendar 2.0//EN
METHOD:PUBLISH
X-PUBLISHED-TTL:P3D
REFRESH-INTERVAL:P3D
CALSCALE:GREGORIAN
BEGIN:VEVENT
DTSTART:20110517T203000Z
DTEND:20110517T203000Z
X-MICROSOFT-CDO-ALLDAYEVENT:FALSE
SUMMARY:Downtown Clean-up
DESCRIPTION:Neighborhood Clean-up
X-ALT-DESC;FMTTYPE=text/html:Neighborhood Clean-up
LOCATION:Central Park
UID:e.2256.534
SEQUENCE:3
DTSTAMP:20260424T195124Z
URL:https://portal.richlandareachamber.com/events/details/downtown-clean-up-05-17-2011-534
END:VEVENT

END:VCALENDAR
