BEGIN:VCALENDAR
VERSION:2.0
PRODID:-//ChamberMaster//Event Calendar 2.0//EN
METHOD:PUBLISH
X-PUBLISHED-TTL:P3D
REFRESH-INTERVAL:P3D
CALSCALE:GREGORIAN
BEGIN:VEVENT
DTSTART:20100110T000000Z
DTEND:20100110T000000Z
X-MICROSOFT-CDO-ALLDAYEVENT:FALSE
SUMMARY:Disney's Beauty and the Beast\, Jr. at OSU Founders Auditorium
DESCRIPTION:For more information\, please call 419-755-4276 of e-mail fahey.9@osu.edu
X-ALT-DESC;FMTTYPE=text/html:For more information\, please call 419-755-4276 of e-mail fahey.9@osu.edu
LOCATION:
UID:e.2256.237
SEQUENCE:3
DTSTAMP:20260425T204716Z
URL:https://portal.richlandareachamber.com/events/details/disney-s-beauty-and-the-beast-jr-at-osu-founders-auditorium-01-09-2010-237
END:VEVENT

END:VCALENDAR
