BEGIN:VCALENDAR
VERSION:2.0
PRODID:-//ChamberMaster//Event Calendar 2.0//EN
METHOD:PUBLISH
X-PUBLISHED-TTL:P3D
REFRESH-INTERVAL:P3D
CALSCALE:GREGORIAN
BEGIN:VEVENT
DTSTART:20120909T000000Z
DTEND:20120909T023000Z
X-MICROSOFT-CDO-ALLDAYEVENT:FALSE
SUMMARY:Derek Dawson Rock Bottom Tour
DESCRIPTION:Derek Dawson Rock Bottom Tour \nOpening for him\, Bryce Damuth of Fla.\, James Victor Cherry (Stage name-(King James)\, Tenn.\, Phoenix Black\, Detroit\, Mich.
X-ALT-DESC;FMTTYPE=text/html:Derek Dawson Rock Bottom Tour \nOpening for him\, Bryce Damuth of Fla.\, James Victor Cherry (Stage name-(King James)\, Tenn.\, Phoenix Black\, Detroit\, Mich.
LOCATION:Renaissance Theater 138 Park Ave West Mansfield\, Ohio
UID:e.2256.679
SEQUENCE:3
DTSTAMP:20260420T075755Z
URL:https://portal.richlandareachamber.com/events/details/derek-dawson-rock-bottom-tour-09-08-2012-679
END:VEVENT

END:VCALENDAR
