BEGIN:VCALENDAR
VERSION:2.0
PRODID:-//ChamberMaster//Event Calendar 2.0//EN
METHOD:PUBLISH
X-PUBLISHED-TTL:P3D
REFRESH-INTERVAL:P3D
CALSCALE:GREGORIAN
BEGIN:VEVENT
DTSTART;VALUE=DATE:20110318
DTEND;VALUE=DATE:20110319
TRANSP:TRANSPARENT
X-MICROSOFT-CDO-ALLDAYEVENT:TRUE
SUMMARY:Depue de Hoyos
DESCRIPTION:Depue de Hoyos\nFriday\, March 18th\, 2011   8:00 PMThis duo's music is a jaw-dropping tour de force of Latin\, Classic-Rock and Showtunes designed to bring audience members to their feet!\n\nIn: The CenturyLink Concert Connection\n\n\n\n\n\n\n\nRenaissance Theatre - www.mansfieldtickets.com - 419-522-2726
X-ALT-DESC;FMTTYPE=text/html:Depue de Hoyos\nFriday\, March 18th\, 2011   8:00 PMThis duo's music is a jaw-dropping tour de force of Latin\, Classic-Rock and Showtunes designed to bring audience members to their feet!\n\nIn: The CenturyLink Concert Connection\n\n\n\n\n\n\n\nRenaissance Theatre - www.mansfieldtickets.com - 419-522-2726\n
LOCATION:
UID:e.2256.413
SEQUENCE:3
DTSTAMP:20260424T225237Z
URL:https://portal.richlandareachamber.com/events/details/depue-de-hoyos-03-18-2011-413
END:VEVENT

END:VCALENDAR
