BEGIN:VCALENDAR
VERSION:2.0
PRODID:-//ChamberMaster//Event Calendar 2.0//EN
METHOD:PUBLISH
X-PUBLISHED-TTL:P3D
REFRESH-INTERVAL:P3D
CALSCALE:GREGORIAN
BEGIN:VEVENT
DTSTART:20120324T140000Z
DTEND:20120324T180000Z
X-MICROSOFT-CDO-ALLDAYEVENT:FALSE
SUMMARY:DEMO DAY 2012 - North Central Golf Center
DESCRIPTION:Fabulous indoor/outdoor driving range/golf facility will feature DEMO DAY 2012 on March 24\, 2012 from 10:00 AM to 2:00 PM. All the major golf club manufacturers will be here with their latest and greatest in golf clubs - regardless of the weather. This is your chance to try out various brands\, ask questions\, and compare clubs. Please join us for this FREE event. Visit our website ncgolfcenter.com for more details and photos of last year's event. Click here for a color flyer.
X-ALT-DESC;FMTTYPE=text/html:Fabulous indoor/outdoor driving range/golf facility will feature DEMO DAY 2012 on March 24\, 2012 from 10:00 AM to 2:00 PM. All the major golf club manufacturers will be here with their latest and greatest in golf clubs - regardless of the weather. This is your chance to try out various brands\, ask questions\, and compare clubs. Please join us for this FREE event. Visit our website ncgolfcenter.com for more details and photos of last year's event. <A href="http://www.mrachamber.com/external/wcpages/wcwebcontent/webcontentpage.aspx?contentid=470" target=_blank>Click here for a color flyer.</A>
LOCATION:Half mile west of Trimble Rd. on W. 4th St.
UID:e.2256.651
SEQUENCE:3
DTSTAMP:20260422T180207Z
URL:https://portal.richlandareachamber.com/events/details/demo-day-2012-north-central-golf-center-03-24-2012-651
END:VEVENT

END:VCALENDAR
