BEGIN:VCALENDAR
VERSION:2.0
PRODID:-//ChamberMaster//Event Calendar 2.0//EN
METHOD:PUBLISH
X-PUBLISHED-TTL:P3D
REFRESH-INTERVAL:P3D
CALSCALE:GREGORIAN
BEGIN:VEVENT
DTSTART;VALUE=DATE:20110218
DTEND;VALUE=DATE:20110219
TRANSP:TRANSPARENT
X-MICROSOFT-CDO-ALLDAYEVENT:TRUE
SUMMARY:Death and Deceit on the Nile - Ohio State Reformatory
DESCRIPTION:An ancient Egyptian Pharaoh's secret tomb and treasure has been discovered. Because of its extraordinary value\, it has been names the"EighthWonder of the Wold." Can the ancient gods of Egypt rest easy?\n\n6pm\n\n419-522-2644\n\nwww.mrps.org
X-ALT-DESC;FMTTYPE=text/html:An ancient Egyptian Pharaoh's secret tomb and treasure has been discovered. Because of its extraordinary value\, it has been names the"EighthWonder of the Wold." Can the ancient gods of Egypt rest easy?\n\n6pm\n\n419-522-2644\n\nwww.mrps.org
LOCATION:
UID:e.2256.471
SEQUENCE:3
DTSTAMP:20260425T003722Z
URL:https://portal.richlandareachamber.com/events/details/death-and-deceit-on-the-nile-ohio-state-reformatory-02-18-2011-471
END:VEVENT

END:VCALENDAR
