BEGIN:VCALENDAR
VERSION:2.0
PRODID:-//ChamberMaster//Event Calendar 2.0//EN
METHOD:PUBLISH
X-PUBLISHED-TTL:P3D
REFRESH-INTERVAL:P3D
CALSCALE:GREGORIAN
BEGIN:VEVENT
DTSTART:20090920T000000Z
DTEND:20090920T000000Z
X-MICROSOFT-CDO-ALLDAYEVENT:FALSE
SUMMARY:Dances with the Stars
DESCRIPTION:Experience an evening of Neos dance\, featuring guest judges and live music as local celebrities compete to support their favorite charities.  the audience chooses the winner at the Renaissance Theatre.  Doors open at 6:30 pm for a silent auction\, complimentary hors d'oeuvres and a live auction after the show.  Proceeds to benefit local charities.
X-ALT-DESC;FMTTYPE=text/html:Experience an evening of Neos dance\, featuring guest judges and live music as local celebrities compete to support their favorite charities.  the audience chooses the winner at the Renaissance Theatre.  Doors open at 6:30 pm for a silent auction\, complimentary hors d'oeuvres and a live auction after the show.  Proceeds to benefit local charities.
LOCATION:
UID:e.2256.47
SEQUENCE:3
DTSTAMP:20260426T005615Z
URL:https://portal.richlandareachamber.com/events/details/dances-with-the-stars-09-19-2009-47
END:VEVENT

END:VCALENDAR
