BEGIN:VCALENDAR
VERSION:2.0
PRODID:-//ChamberMaster//Event Calendar 2.0//EN
METHOD:PUBLISH
X-PUBLISHED-TTL:P3D
REFRESH-INTERVAL:P3D
CALSCALE:GREGORIAN
BEGIN:VEVENT
DTSTART:20110918T160000Z
DTEND:20110918T210000Z
X-MICROSOFT-CDO-ALLDAYEVENT:FALSE
SUMMARY:Cruise in on the Range
DESCRIPTION:Car Show!!!!  Proceeds to benefit Relay for Life.  Registration begins at 10am\, $5.00 entry fee\, dash plaques for first 100 cars\, 50/50 drawing\, free corn hole and mini golf\, music and car trivia\, lots more\, come join us.
X-ALT-DESC;FMTTYPE=text/html:Car Show!!!!  Proceeds to benefit Relay for Life.  Registration begins at 10am\, $5.00 entry fee\, dash plaques for first 100 cars\, 50/50 drawing\, free corn hole and mini golf\, music and car trivia\, lots more\, come join us.
LOCATION:On S. Main Street\, right beside Therm O Disc
UID:e.2256.608
SEQUENCE:3
DTSTAMP:20260424T133927Z
URL:https://portal.richlandareachamber.com/events/details/cruise-in-on-the-range-09-18-2011-608
END:VEVENT

END:VCALENDAR
