BEGIN:VCALENDAR
VERSION:2.0
PRODID:-//ChamberMaster//Event Calendar 2.0//EN
METHOD:PUBLISH
X-PUBLISHED-TTL:P3D
REFRESH-INTERVAL:P3D
CALSCALE:GREGORIAN
BEGIN:VEVENT
DTSTART:20110827T120000Z
DTEND:20110828T010000Z
X-MICROSOFT-CDO-ALLDAYEVENT:FALSE
SUMMARY:Cruise In
DESCRIPTION:Classic Car Show
X-ALT-DESC;FMTTYPE=text/html:Classic Car Show
LOCATION:Central Park
UID:e.2256.570
SEQUENCE:3
DTSTAMP:20260424T152922Z
URL:https://portal.richlandareachamber.com/events/details/cruise-in-08-27-2011-570
END:VEVENT

END:VCALENDAR
