BEGIN:VCALENDAR
VERSION:2.0
PRODID:-//ChamberMaster//Event Calendar 2.0//EN
METHOD:PUBLISH
X-PUBLISHED-TTL:P3D
REFRESH-INTERVAL:P3D
CALSCALE:GREGORIAN
BEGIN:VEVENT
DTSTART:20091008T223000Z
DTEND:20091008T223000Z
X-MICROSOFT-CDO-ALLDAYEVENT:FALSE
SUMMARY:Concert
DESCRIPTION:The Arts & Lectures Series at The OSU-Mansfield campus features the JiMiller Band in Founders Auditorium.  The band's style is as varied as their influences -- blending togethr blues\, country\, Cajun\, old rock'n'roll\, and bluegrass.  But\, the band is best known for its free form improvisation rock that was made famous by The Grateful Dead and Allman Brothers.  A bright star in the Midwest music scene\, the JiMiller Band has played the 10\,000 Festival with String Cheese and Galactic.  They have opened for Bruce Hornsby\, and during 2005-2006 they opened for Little Feat at Cleveland's House of Blues.  FREE tickets for the performance may be obtained by calling the campus at 419-755-4314.  The Arts & Lectures Series is sponsored by OSU-Mansfield\, NC State College and MedCentral College of Nursing
X-ALT-DESC;FMTTYPE=text/html:The Arts & Lectures Series at The OSU-Mansfield campus features the JiMiller Band in Founders Auditorium.  The band's style is as varied as their influences -- blending togethr blues\, country\, Cajun\, old rock'n'roll\, and bluegrass.  But\, the band is best known for its free form improvisation rock that was made famous by The Grateful Dead and Allman Brothers.  A bright star in the Midwest music scene\, the JiMiller Band has played the 10\,000 Festival with String Cheese and Galactic.  They have opened for Bruce Hornsby\, and during 2005-2006 they opened for Little Feat at Cleveland's House of Blues.  FREE tickets for the performance may be obtained by calling the campus at 419-755-4314.  The Arts & Lectures Series is sponsored by OSU-Mansfield\, NC State College and MedCentral College of Nursing
LOCATION:Founders Auditorium at OSU Mansfield
UID:e.2256.99
SEQUENCE:3
DTSTAMP:20260425T232433Z
URL:https://portal.richlandareachamber.com/events/details/concert-10-08-2009-99
END:VEVENT

END:VCALENDAR
