BEGIN:VCALENDAR
VERSION:2.0
PRODID:-//ChamberMaster//Event Calendar 2.0//EN
METHOD:PUBLISH
X-PUBLISHED-TTL:P3D
REFRESH-INTERVAL:P3D
CALSCALE:GREGORIAN
BEGIN:VEVENT
DTSTART:20100408T220000Z
DTEND:20100408T220000Z
X-MICROSOFT-CDO-ALLDAYEVENT:FALSE
SUMMARY:Community Show
DESCRIPTION:Ventriloquist/comedienne Lynn Trefger will appear at the OSU-Mansfield/NC Campus in the Student Union.  Named the 2006 Funniest Female Performer of the year by Campus Activities Magazine\, her off-the-wall audience interplay is riotously funny.  She has appeared on ABC\, TNN\, A & E and Lifetime television.  The show sponsored by the Campus Activities Board\, is free and open to the public.
X-ALT-DESC;FMTTYPE=text/html:Ventriloquist/comedienne Lynn Trefger will appear at the OSU-Mansfield/NC Campus in the Student Union.  Named the 2006 Funniest Female Performer of the year by Campus Activities Magazine\, her off-the-wall audience interplay is riotously funny.  She has appeared on ABC\, TNN\, A & E and Lifetime television.  The show sponsored by the Campus Activities Board\, is free and open to the public.  
LOCATION:in the Eisenhower Student Union
UID:e.2256.292
SEQUENCE:3
DTSTAMP:20260425T153239Z
URL:https://portal.richlandareachamber.com/events/details/community-show-04-08-2010-292
END:VEVENT

END:VCALENDAR
