BEGIN:VCALENDAR
VERSION:2.0
PRODID:-//ChamberMaster//Event Calendar 2.0//EN
METHOD:PUBLISH
X-PUBLISHED-TTL:P3D
REFRESH-INTERVAL:P3D
CALSCALE:GREGORIAN
BEGIN:VEVENT
DTSTART:20120223T130000Z
DTEND:20120223T161500Z
X-MICROSOFT-CDO-ALLDAYEVENT:FALSE
SUMMARY:Community Health Assessment Report Kickoff
DESCRIPTION:Kickoff breakfast and introduction of the 2011 Richland County Community Health Assessment. This kickoff will explain the valuable information in the report for citizens\, businesses\, churches\, community organizations\, non-profit and government agencies\, schools and anyone else concerned about the health of Richland County. Please RSVP by February 10 to 419-774-5387.
X-ALT-DESC;FMTTYPE=text/html:Kickoff breakfast and introduction of the 2011 Richland County Community Health Assessment. This kickoff will explain the valuable information in the report for citizens\, businesses\, churches\, community organizations\, non-profit and government agencies\, schools and anyone else concerned about the health of Richland County. Please RSVP by February 10 to 419-774-5387.
LOCATION:Mid-Ohio Conference Center\, 890 West Fourth Street\, Mansfield
UID:e.2256.647
SEQUENCE:3
DTSTAMP:20260422T191309Z
URL:https://portal.richlandareachamber.com/events/details/community-health-assessment-report-kickoff-02-23-2012-647
END:VEVENT

END:VCALENDAR
